Package: PCAtools Version: 2.4.0 Command: /Library/Frameworks/R.framework/Versions/Current/Resources/bin/R CMD INSTALL PCAtools StartedAt: 2021-10-14 09:11:43 -0400 (Thu, 14 Oct 2021) EndedAt: 2021-10-14 09:12:35 -0400 (Thu, 14 Oct 2021) EllapsedTime: 51.8 seconds RetCode: 0 Status: OK