Package: PCAtools Version: 2.4.0 Command: /home/biocbuild/bbs-3.13-bioc/R/bin/R CMD build --keep-empty-dirs --no-resave-data PCAtools StartedAt: 2021-10-14 07:57:28 -0400 (Thu, 14 Oct 2021) EndedAt: 2021-10-14 07:59:07 -0400 (Thu, 14 Oct 2021) EllapsedTime: 99.2 seconds RetCode: 1 Status: ERROR PackageFile: None PackageFileSize: NA