Package: PFP Version: 1.0.0 Command: rm -rf PFP.buildbin-libdir && mkdir PFP.buildbin-libdir && /Users/biocbuild/BBS/utils/build-universal.sh PFP_1.0.0.tar.gz /Library/Frameworks/R.framework/Versions/Current/Resources/bin/R PFP.buildbin-libdir StartedAt: 2021-10-15 03:27:10 -0400 (Fri, 15 Oct 2021) EndedAt: 2021-10-15 03:28:19 -0400 (Fri, 15 Oct 2021) EllapsedTime: 69.5 seconds RetCode: 0 Status: OK PackageFile: PFP_1.0.0.tgz PackageFileSize: 1.348 MiB