Package: PFP Version: 1.0.0 Command: /Library/Frameworks/R.framework/Versions/Current/Resources/bin/R CMD INSTALL PFP StartedAt: 2021-10-14 10:09:31 -0400 (Thu, 14 Oct 2021) EndedAt: 2021-10-14 10:10:09 -0400 (Thu, 14 Oct 2021) EllapsedTime: 38.2 seconds RetCode: 0 Status: OK