Package: PFP Version: 1.0.0 Command: rm -rf PFP.buildbin-libdir && mkdir PFP.buildbin-libdir && C:\Users\biocbuild\bbs-3.13-bioc\R\bin\R.exe CMD INSTALL --merge-multiarch --build --library=PFP.buildbin-libdir PFP_1.0.0.tar.gz StartedAt: 2021-10-15 10:56:25 -0400 (Fri, 15 Oct 2021) EndedAt: 2021-10-15 10:57:45 -0400 (Fri, 15 Oct 2021) EllapsedTime: 79.4 seconds RetCode: 0 Status: OK PackageFile: PFP_1.0.0.zip PackageFileSize: 1.373 MiB