Package: POST Version: 1.16.0 Command: /home/biocbuild/bbs-3.13-bioc/R/bin/R CMD INSTALL POST StartedAt: 2021-10-14 06:21:25 -0400 (Thu, 14 Oct 2021) EndedAt: 2021-10-14 06:21:42 -0400 (Thu, 14 Oct 2021) EllapsedTime: 17.0 seconds RetCode: 0 Status: OK