Package: PROMISE Version: 1.44.0 Command: /home/biocbuild/bbs-3.13-bioc/R/bin/R CMD build --keep-empty-dirs --no-resave-data PROMISE StartedAt: 2021-10-14 08:04:00 -0400 (Thu, 14 Oct 2021) EndedAt: 2021-10-14 08:04:21 -0400 (Thu, 14 Oct 2021) EllapsedTime: 21.6 seconds RetCode: 0 Status: OK PackageFile: PROMISE_1.44.0.tar.gz PackageFileSize: 173.4 KiB