Package: PROMISE Version: 1.44.0 Command: /home/biocbuild/bbs-3.13-bioc/R/bin/R CMD check --install=check:PROMISE.install-out.txt --library=/home/biocbuild/bbs-3.13-bioc/R/library --no-vignettes --timings PROMISE_1.44.0.tar.gz StartedAt: 2021-10-14 11:07:30 -0400 (Thu, 14 Oct 2021) EndedAt: 2021-10-14 11:09:11 -0400 (Thu, 14 Oct 2021) EllapsedTime: 100.7 seconds RetCode: 0 Status: OK CheckDir: PROMISE.Rcheck Warnings: 0