Package: PROMISE Version: 1.44.0 Command: /home/biocbuild/bbs-3.13-bioc/R/bin/R CMD INSTALL PROMISE StartedAt: 2021-10-14 06:17:37 -0400 (Thu, 14 Oct 2021) EndedAt: 2021-10-14 06:17:51 -0400 (Thu, 14 Oct 2021) EllapsedTime: 13.6 seconds RetCode: 0 Status: OK