Package: PROMISE Version: 1.44.0 Command: chmod a+r PROMISE -R && C:\Users\biocbuild\bbs-3.13-bioc\R\bin\R.exe CMD build --keep-empty-dirs --no-resave-data PROMISE StartedAt: 2021-10-14 17:13:07 -0400 (Thu, 14 Oct 2021) EndedAt: 2021-10-14 17:13:52 -0400 (Thu, 14 Oct 2021) EllapsedTime: 44.5 seconds RetCode: 0 Status: OK PackageFile: PROMISE_1.44.0.tar.gz PackageFileSize: 173.7 KiB