Package: PROPER Version: 1.24.0 Command: /Library/Frameworks/R.framework/Versions/Current/Resources/bin/R CMD check --install=check:PROPER.install-out.txt --library=/Library/Frameworks/R.framework/Versions/Current/Resources/library --no-vignettes --timings PROPER_1.24.0.tar.gz StartedAt: 2021-10-14 22:36:20 -0400 (Thu, 14 Oct 2021) EndedAt: 2021-10-14 22:37:13 -0400 (Thu, 14 Oct 2021) EllapsedTime: 53.2 seconds RetCode: 0 Status: WARNINGS CheckDir: PROPER.Rcheck Warnings: 2