Package: PROPER Version: 1.24.0 Command: /Library/Frameworks/R.framework/Versions/Current/Resources/bin/R CMD INSTALL PROPER StartedAt: 2021-10-14 08:18:14 -0400 (Thu, 14 Oct 2021) EndedAt: 2021-10-14 08:19:18 -0400 (Thu, 14 Oct 2021) EllapsedTime: 64.5 seconds RetCode: 0 Status: OK