Package: PWMEnrich Version: 4.28.1 Command: /Library/Frameworks/R.framework/Versions/Current/Resources/bin/R CMD check --install=check:PWMEnrich.install-out.txt --library=/Library/Frameworks/R.framework/Versions/Current/Resources/library --no-vignettes --timings PWMEnrich_4.28.1.tar.gz StartedAt: 2021-10-14 22:41:38 -0400 (Thu, 14 Oct 2021) EndedAt: 2021-10-14 22:43:59 -0400 (Thu, 14 Oct 2021) EllapsedTime: 140.8 seconds RetCode: 0 Status: OK CheckDir: PWMEnrich.Rcheck Warnings: 0