Package: Path2PPI Version: 1.22.0 Command: /Library/Frameworks/R.framework/Versions/Current/Resources/bin/R CMD INSTALL Path2PPI StartedAt: 2021-10-14 08:24:39 -0400 (Thu, 14 Oct 2021) EndedAt: 2021-10-14 08:25:24 -0400 (Thu, 14 Oct 2021) EllapsedTime: 45.5 seconds RetCode: 0 Status: OK