Package: Path2PPI Version: 1.22.0 Command: rm -rf Path2PPI.buildbin-libdir && mkdir Path2PPI.buildbin-libdir && C:\Users\biocbuild\bbs-3.13-bioc\R\bin\R.exe CMD INSTALL --merge-multiarch --build --library=Path2PPI.buildbin-libdir Path2PPI_1.22.0.tar.gz StartedAt: 2021-10-15 10:52:53 -0400 (Fri, 15 Oct 2021) EndedAt: 2021-10-15 10:54:06 -0400 (Fri, 15 Oct 2021) EllapsedTime: 72.5 seconds RetCode: 0 Status: OK PackageFile: Path2PPI_1.22.0.zip PackageFileSize: 1.101 MiB