Package: PathNet Version: 1.32.0 Command: /Library/Frameworks/R.framework/Versions/Current/Resources/bin/R CMD INSTALL PathNet StartedAt: 2021-10-14 08:05:42 -0400 (Thu, 14 Oct 2021) EndedAt: 2021-10-14 08:06:27 -0400 (Thu, 14 Oct 2021) EllapsedTime: 45.2 seconds RetCode: 0 Status: OK