Package: PathNet Version: 1.32.0 Command: /home/biocbuild/bbs-3.13-bioc/R/bin/R CMD build --keep-empty-dirs --no-resave-data PathNet StartedAt: 2021-10-14 07:56:01 -0400 (Thu, 14 Oct 2021) EndedAt: 2021-10-14 07:57:09 -0400 (Thu, 14 Oct 2021) EllapsedTime: 68.0 seconds RetCode: 0 Status: OK PackageFile: PathNet_1.32.0.tar.gz PackageFileSize: 757.8 KiB