git_url: https://git.bioconductor.org/packages/PeacoQC git_branch: RELEASE_3_13 git_last_commit: 0069897 git_last_commit_date: 2021-05-19 12:53:11 -0400 (Wed, 19 May 2021) Package: PeacoQC Version: 1.2.0 Maintainer: Annelies Emmaneel MaintainerEmail: annelies.emmaneel at hotmail.com