git_url: https://git.bioconductor.org/packages/PepsNMR git_branch: RELEASE_3_13 git_last_commit: 4a75865 git_last_commit_date: 2021-08-02 09:43:30 -0400 (Mon, 02 Aug 2021) Package: PepsNMR Version: 1.10.1 Maintainer: Manon Martin MaintainerEmail: manon.martin at uclouvain.be