Package: PepsNMR Version: 1.10.1 Command: rm -rf PepsNMR.buildbin-libdir && mkdir PepsNMR.buildbin-libdir && /Users/biocbuild/BBS/utils/build-universal.sh PepsNMR_1.10.1.tar.gz /Library/Frameworks/R.framework/Versions/Current/Resources/bin/R PepsNMR.buildbin-libdir StartedAt: 2021-10-15 03:26:37 -0400 (Fri, 15 Oct 2021) EndedAt: 2021-10-15 03:27:48 -0400 (Fri, 15 Oct 2021) EllapsedTime: 71.0 seconds RetCode: 0 Status: OK PackageFile: PepsNMR_1.10.1.tgz PackageFileSize: 1.214 MiB