Package: PepsNMR Version: 1.10.1 Command: /Library/Frameworks/R.framework/Versions/Current/Resources/bin/R CMD check --install=check:PepsNMR.install-out.txt --library=/Library/Frameworks/R.framework/Versions/Current/Resources/library --no-vignettes --timings PepsNMR_1.10.1.tar.gz StartedAt: 2021-10-14 22:12:31 -0400 (Thu, 14 Oct 2021) EndedAt: 2021-10-14 22:24:28 -0400 (Thu, 14 Oct 2021) EllapsedTime: 716.5 seconds RetCode: 0 Status: OK CheckDir: PepsNMR.Rcheck Warnings: 0