Package: PepsNMR Version: 1.10.1 Command: /home/biocbuild/bbs-3.13-bioc/R/bin/R CMD INSTALL PepsNMR StartedAt: 2021-10-14 06:06:49 -0400 (Thu, 14 Oct 2021) EndedAt: 2021-10-14 06:06:56 -0400 (Thu, 14 Oct 2021) EllapsedTime: 7.9 seconds RetCode: 0 Status: OK