Package: Pi Version: 2.4.0 Command: /home/biocbuild/bbs-3.13-bioc/R/bin/R CMD check --install=check:Pi.install-out.txt --library=/home/biocbuild/bbs-3.13-bioc/R/library --no-vignettes --timings Pi_2.4.0.tar.gz StartedAt: 2021-10-14 11:01:49 -0400 (Thu, 14 Oct 2021) EndedAt: 2021-10-14 11:04:57 -0400 (Thu, 14 Oct 2021) EllapsedTime: 187.8 seconds RetCode: 0 Status: WARNINGS CheckDir: Pi.Rcheck Warnings: 1