Package: Pigengene Version: 1.18.10 Command: rm -rf Pigengene.buildbin-libdir && mkdir Pigengene.buildbin-libdir && /Users/biocbuild/BBS/utils/build-universal.sh Pigengene_1.18.10.tar.gz /Library/Frameworks/R.framework/Versions/Current/Resources/bin/R Pigengene.buildbin-libdir StartedAt: 2021-10-15 03:28:51 -0400 (Fri, 15 Oct 2021) EndedAt: 2021-10-15 03:30:01 -0400 (Fri, 15 Oct 2021) EllapsedTime: 69.3 seconds RetCode: 0 Status: OK PackageFile: Pigengene_1.18.10.tgz PackageFileSize: 2.91 MiB