Package: Pigengene Version: 1.18.10 Command: /Library/Frameworks/R.framework/Versions/Current/Resources/bin/R CMD build --keep-empty-dirs --no-resave-data Pigengene StartedAt: 2021-10-14 13:56:10 -0400 (Thu, 14 Oct 2021) EndedAt: 2021-10-14 13:59:28 -0400 (Thu, 14 Oct 2021) EllapsedTime: 198.5 seconds RetCode: 0 Status: OK PackageFile: Pigengene_1.18.10.tar.gz PackageFileSize: 2.672 MiB