Package: Pigengene Version: 1.18.10 Command: /Library/Frameworks/R.framework/Versions/Current/Resources/bin/R CMD check --install=check:Pigengene.install-out.txt --library=/Library/Frameworks/R.framework/Versions/Current/Resources/library --no-vignettes --timings Pigengene_1.18.10.tar.gz StartedAt: 2021-10-14 22:21:27 -0400 (Thu, 14 Oct 2021) EndedAt: 2021-10-14 22:30:56 -0400 (Thu, 14 Oct 2021) EllapsedTime: 569.6 seconds RetCode: 0 Status: OK CheckDir: Pigengene.Rcheck Warnings: 0