Package: Pigengene Version: 1.18.10 Command: rm -rf Pigengene.buildbin-libdir && mkdir Pigengene.buildbin-libdir && C:\Users\biocbuild\bbs-3.13-bioc\R\bin\R.exe CMD INSTALL --merge-multiarch --build --library=Pigengene.buildbin-libdir Pigengene_1.18.10.tar.gz StartedAt: 2021-10-15 10:59:08 -0400 (Fri, 15 Oct 2021) EndedAt: 2021-10-15 11:00:23 -0400 (Fri, 15 Oct 2021) EllapsedTime: 74.5 seconds RetCode: 0 Status: OK PackageFile: Pigengene_1.18.10.zip PackageFileSize: 2.979 MiB