Package: Pigengene Version: 1.18.10 Command: C:\cygwin\bin\curl.exe -O http://155.52.207.165/BBS/3.13/bioc/src/contrib/Pigengene_1.18.10.tar.gz && rm -rf Pigengene.buildbin-libdir && mkdir Pigengene.buildbin-libdir && C:\Users\biocbuild\bbs-3.13-bioc\R\bin\R.exe CMD INSTALL --merge-multiarch --build --library=Pigengene.buildbin-libdir Pigengene_1.18.10.tar.gz && C:\Users\biocbuild\bbs-3.13-bioc\R\bin\R.exe CMD INSTALL Pigengene_1.18.10.zip && rm Pigengene_1.18.10.tar.gz Pigengene_1.18.10.zip StartedAt: 2021-10-14 09:09:50 -0400 (Thu, 14 Oct 2021) EndedAt: 2021-10-14 09:10:44 -0400 (Thu, 14 Oct 2021) EllapsedTime: 53.8 seconds RetCode: 0 Status: OK