Package: PloGO2 Version: 1.4.0 Command: rm -rf PloGO2.buildbin-libdir && mkdir PloGO2.buildbin-libdir && C:\Users\biocbuild\bbs-3.13-bioc\R\bin\R.exe CMD INSTALL --merge-multiarch --build --library=PloGO2.buildbin-libdir PloGO2_1.4.0.tar.gz StartedAt: 2021-10-15 11:00:23 -0400 (Fri, 15 Oct 2021) EndedAt: 2021-10-15 11:01:55 -0400 (Fri, 15 Oct 2021) EllapsedTime: 92.8 seconds RetCode: 0 Status: OK PackageFile: PloGO2_1.4.0.zip PackageFileSize: 1.561 MiB