Package: PloGO2 Version: 1.4.0 Command: chmod a+r PloGO2 -R && C:\Users\biocbuild\bbs-3.13-bioc\R\bin\R.exe CMD build --keep-empty-dirs --no-resave-data PloGO2 StartedAt: 2021-10-14 16:58:06 -0400 (Thu, 14 Oct 2021) EndedAt: 2021-10-14 17:09:26 -0400 (Thu, 14 Oct 2021) EllapsedTime: 679.3 seconds RetCode: 0 Status: OK PackageFile: PloGO2_1.4.0.tar.gz PackageFileSize: 1.764 MiB