Package: PloGO2 Version: 1.4.0 Command: C:\cygwin\bin\curl.exe -O http://155.52.207.165/BBS/3.13/bioc/src/contrib/PloGO2_1.4.0.tar.gz && rm -rf PloGO2.buildbin-libdir && mkdir PloGO2.buildbin-libdir && C:\Users\biocbuild\bbs-3.13-bioc\R\bin\R.exe CMD INSTALL --merge-multiarch --build --library=PloGO2.buildbin-libdir PloGO2_1.4.0.tar.gz && C:\Users\biocbuild\bbs-3.13-bioc\R\bin\R.exe CMD INSTALL PloGO2_1.4.0.zip && rm PloGO2_1.4.0.tar.gz PloGO2_1.4.0.zip StartedAt: 2021-10-14 09:24:36 -0400 (Thu, 14 Oct 2021) EndedAt: 2021-10-14 09:25:21 -0400 (Thu, 14 Oct 2021) EllapsedTime: 45.4 seconds RetCode: 0 Status: OK