git_url: https://git.bioconductor.org/packages/Prostar git_branch: RELEASE_3_13 git_last_commit: 5886e47 git_last_commit_date: 2021-09-01 02:42:41 -0400 (Wed, 01 Sep 2021) Package: Prostar Version: 1.24.8 Maintainer: Samuel Wieczorek MaintainerEmail: samuel.wieczorek at cea.fr