Package: ProtGenerics Version: 1.24.0 Command: rm -rf ProtGenerics.buildbin-libdir && mkdir ProtGenerics.buildbin-libdir && /Users/biocbuild/BBS/utils/build-universal.sh ProtGenerics_1.24.0.tar.gz /Library/Frameworks/R.framework/Versions/Current/Resources/bin/R ProtGenerics.buildbin-libdir StartedAt: 2021-10-15 03:33:49 -0400 (Fri, 15 Oct 2021) EndedAt: 2021-10-15 03:34:52 -0400 (Fri, 15 Oct 2021) EllapsedTime: 63.2 seconds RetCode: 0 Status: OK PackageFile: ProtGenerics_1.24.0.tgz PackageFileSize: 207.3 KiB