Package: ProtGenerics Version: 1.24.0 Command: C:\cygwin\bin\curl.exe -O http://155.52.207.165/BBS/3.13/bioc/src/contrib/ProtGenerics_1.24.0.tar.gz && rm -rf ProtGenerics.buildbin-libdir && mkdir ProtGenerics.buildbin-libdir && C:\Users\biocbuild\bbs-3.13-bioc\R\bin\R.exe CMD INSTALL --merge-multiarch --build --library=ProtGenerics.buildbin-libdir ProtGenerics_1.24.0.tar.gz && C:\Users\biocbuild\bbs-3.13-bioc\R\bin\R.exe CMD INSTALL ProtGenerics_1.24.0.zip && rm ProtGenerics_1.24.0.tar.gz ProtGenerics_1.24.0.zip StartedAt: 2021-10-14 07:01:26 -0400 (Thu, 14 Oct 2021) EndedAt: 2021-10-14 07:02:38 -0400 (Thu, 14 Oct 2021) EllapsedTime: 71.7 seconds RetCode: 0 Status: OK