Package: ProteoMM Version: 1.10.0 Command: chmod a+r ProteoMM -R && C:\Users\biocbuild\bbs-3.13-bioc\R\bin\R.exe CMD build --keep-empty-dirs --no-resave-data ProteoMM StartedAt: 2021-10-14 17:14:01 -0400 (Thu, 14 Oct 2021) EndedAt: 2021-10-14 17:14:37 -0400 (Thu, 14 Oct 2021) EllapsedTime: 36.5 seconds RetCode: 0 Status: OK PackageFile: ProteoMM_1.10.0.tar.gz PackageFileSize: 213.9 KiB