Package: QDNAseq Version: 1.28.0 Command: /Library/Frameworks/R.framework/Versions/Current/Resources/bin/R CMD check --install=check:QDNAseq.install-out.txt --library=/Library/Frameworks/R.framework/Versions/Current/Resources/library --no-vignettes --timings QDNAseq_1.28.0.tar.gz StartedAt: 2021-10-14 22:43:38 -0400 (Thu, 14 Oct 2021) EndedAt: 2021-10-14 22:49:17 -0400 (Thu, 14 Oct 2021) EllapsedTime: 339.4 seconds RetCode: 0 Status: OK CheckDir: QDNAseq.Rcheck Warnings: 0