Package: QDNAseq Version: 1.28.0 Command: /Library/Frameworks/R.framework/Versions/Current/Resources/bin/R CMD INSTALL QDNAseq StartedAt: 2021-10-14 09:17:00 -0400 (Thu, 14 Oct 2021) EndedAt: 2021-10-14 09:17:55 -0400 (Thu, 14 Oct 2021) EllapsedTime: 55.9 seconds RetCode: 0 Status: OK