Package: QDNAseq Version: 1.28.0 Command: rm -rf QDNAseq.buildbin-libdir && mkdir QDNAseq.buildbin-libdir && C:\Users\biocbuild\bbs-3.13-bioc\R\bin\R.exe CMD INSTALL --merge-multiarch --build --library=QDNAseq.buildbin-libdir QDNAseq_1.28.0.tar.gz StartedAt: 2021-10-15 11:09:35 -0400 (Fri, 15 Oct 2021) EndedAt: 2021-10-15 11:11:08 -0400 (Fri, 15 Oct 2021) EllapsedTime: 92.8 seconds RetCode: 0 Status: OK PackageFile: QDNAseq_1.28.0.zip PackageFileSize: 1.418 MiB