git_url: https://git.bioconductor.org/packages/QFeatures git_branch: RELEASE_3_13 git_last_commit: e858c2b git_last_commit_date: 2021-05-19 12:54:41 -0400 (Wed, 19 May 2021) Package: QFeatures Version: 1.2.0 Maintainer: Laurent Gatto MaintainerEmail: laurent.gatto at uclouvain.be