Package: QFeatures Version: 1.2.0 Command: rm -rf QFeatures.buildbin-libdir && mkdir QFeatures.buildbin-libdir && C:\Users\biocbuild\bbs-3.13-bioc\R\bin\R.exe CMD INSTALL --merge-multiarch --build --library=QFeatures.buildbin-libdir QFeatures_1.2.0.tar.gz StartedAt: 2021-10-15 11:09:44 -0400 (Fri, 15 Oct 2021) EndedAt: 2021-10-15 11:11:16 -0400 (Fri, 15 Oct 2021) EllapsedTime: 91.7 seconds RetCode: 0 Status: OK PackageFile: QFeatures_1.2.0.zip PackageFileSize: 1.796 MiB