Package: QUBIC Version: 1.20.1 Command: rm -rf QUBIC.buildbin-libdir && mkdir QUBIC.buildbin-libdir && /Users/biocbuild/BBS/utils/build-universal.sh QUBIC_1.20.1.tar.gz /Library/Frameworks/R.framework/Versions/Current/Resources/bin/R QUBIC.buildbin-libdir StartedAt: 2021-10-15 03:36:50 -0400 (Fri, 15 Oct 2021) EndedAt: 2021-10-15 03:37:59 -0400 (Fri, 15 Oct 2021) EllapsedTime: 69.6 seconds RetCode: 0 Status: OK PackageFile: QUBIC_1.20.1.tgz PackageFileSize: 631.4 KiB