Package: QUBIC Version: 1.20.1 Command: /Library/Frameworks/R.framework/Versions/Current/Resources/bin/R CMD check --install=check:QUBIC.install-out.txt --library=/Library/Frameworks/R.framework/Versions/Current/Resources/library --no-vignettes --timings QUBIC_1.20.1.tar.gz StartedAt: 2021-10-14 22:48:33 -0400 (Thu, 14 Oct 2021) EndedAt: 2021-10-14 22:49:33 -0400 (Thu, 14 Oct 2021) EllapsedTime: 59.9 seconds RetCode: 0 Status: OK CheckDir: QUBIC.Rcheck Warnings: 0