Package: QUBIC Version: 1.20.1 Command: /Library/Frameworks/R.framework/Versions/Current/Resources/bin/R CMD INSTALL QUBIC StartedAt: 2021-10-14 09:40:44 -0400 (Thu, 14 Oct 2021) EndedAt: 2021-10-14 09:41:24 -0400 (Thu, 14 Oct 2021) EllapsedTime: 40.3 seconds RetCode: 0 Status: OK