git_url: https://git.bioconductor.org/packages/R453Plus1Toolbox git_branch: RELEASE_3_13 git_last_commit: 02482b8 git_last_commit_date: 2021-05-19 11:46:40 -0400 (Wed, 19 May 2021) Package: R453Plus1Toolbox Version: 1.42.0 Maintainer: Hans-Ulrich Klein MaintainerEmail: h.klein at uni-muenster.de