Package: R453Plus1Toolbox Version: 1.42.0 Command: rm -rf R453Plus1Toolbox.buildbin-libdir && mkdir R453Plus1Toolbox.buildbin-libdir && /Users/biocbuild/BBS/utils/build-universal.sh R453Plus1Toolbox_1.42.0.tar.gz /Library/Frameworks/R.framework/Versions/Current/Resources/bin/R R453Plus1Toolbox.buildbin-libdir StartedAt: 2021-10-15 03:37:16 -0400 (Fri, 15 Oct 2021) EndedAt: 2021-10-15 03:39:31 -0400 (Fri, 15 Oct 2021) EllapsedTime: 135.1 seconds RetCode: 0 Status: OK PackageFile: R453Plus1Toolbox_1.42.0.tgz PackageFileSize: 2.451 MiB