Package: R453Plus1Toolbox Version: 1.42.0 Command: /Library/Frameworks/R.framework/Versions/Current/Resources/bin/R CMD check --install=check:R453Plus1Toolbox.install-out.txt --library=/Library/Frameworks/R.framework/Versions/Current/Resources/library --no-vignettes --timings R453Plus1Toolbox_1.42.0.tar.gz StartedAt: 2021-10-14 22:49:38 -0400 (Thu, 14 Oct 2021) EndedAt: 2021-10-14 22:57:12 -0400 (Thu, 14 Oct 2021) EllapsedTime: 453.4 seconds RetCode: 0 Status: OK CheckDir: R453Plus1Toolbox.Rcheck Warnings: 0