Package: R453Plus1Toolbox Version: 1.42.0 Command: /home/biocbuild/bbs-3.13-bioc/R/bin/R CMD build --keep-empty-dirs --no-resave-data R453Plus1Toolbox StartedAt: 2021-10-14 08:07:41 -0400 (Thu, 14 Oct 2021) EndedAt: 2021-10-14 08:09:27 -0400 (Thu, 14 Oct 2021) EllapsedTime: 106.1 seconds RetCode: 0 Status: OK PackageFile: R453Plus1Toolbox_1.42.0.tar.gz PackageFileSize: 912.3 KiB