Package: R453Plus1Toolbox Version: 1.42.0 Command: /home/biocbuild/bbs-3.13-bioc/R/bin/R CMD check --install=check:R453Plus1Toolbox.install-out.txt --library=/home/biocbuild/bbs-3.13-bioc/R/library --no-vignettes --timings R453Plus1Toolbox_1.42.0.tar.gz StartedAt: 2021-10-14 11:12:58 -0400 (Thu, 14 Oct 2021) EndedAt: 2021-10-14 11:18:08 -0400 (Thu, 14 Oct 2021) EllapsedTime: 310.3 seconds RetCode: 0 Status: OK CheckDir: R453Plus1Toolbox.Rcheck Warnings: 0