Package: R453Plus1Toolbox Version: 1.42.0 Command: /home/biocbuild/bbs-3.13-bioc/R/bin/R CMD INSTALL R453Plus1Toolbox StartedAt: 2021-10-14 06:25:32 -0400 (Thu, 14 Oct 2021) EndedAt: 2021-10-14 06:26:36 -0400 (Thu, 14 Oct 2021) EllapsedTime: 63.9 seconds RetCode: 0 Status: OK