Package: R453Plus1Toolbox Version: 1.42.0 Command: chmod a+r R453Plus1Toolbox -R && C:\Users\biocbuild\bbs-3.13-bioc\R\bin\R.exe CMD build --keep-empty-dirs --no-resave-data R453Plus1Toolbox StartedAt: 2021-10-14 17:21:51 -0400 (Thu, 14 Oct 2021) EndedAt: 2021-10-14 17:24:29 -0400 (Thu, 14 Oct 2021) EllapsedTime: 158.1 seconds RetCode: 0 Status: OK PackageFile: R453Plus1Toolbox_1.42.0.tar.gz PackageFileSize: 932.3 KiB